BEGIN:VCALENDAR
VERSION:2.0
PRODID:-//Dapper Owl Coffee Pub &amp; Bakery - ECPv6.15.18//NONSGML v1.0//EN
CALSCALE:GREGORIAN
METHOD:PUBLISH
X-ORIGINAL-URL:https://dapperowl.coffee
X-WR-CALDESC:Events for Dapper Owl Coffee Pub &amp; Bakery
REFRESH-INTERVAL;VALUE=DURATION:PT1H
X-Robots-Tag:noindex
X-PUBLISHED-TTL:PT1H
BEGIN:VTIMEZONE
TZID:America/New_York
BEGIN:DAYLIGHT
TZOFFSETFROM:-0500
TZOFFSETTO:-0400
TZNAME:EDT
DTSTART:20240310T070000
END:DAYLIGHT
BEGIN:STANDARD
TZOFFSETFROM:-0400
TZOFFSETTO:-0500
TZNAME:EST
DTSTART:20241103T060000
END:STANDARD
BEGIN:DAYLIGHT
TZOFFSETFROM:-0500
TZOFFSETTO:-0400
TZNAME:EDT
DTSTART:20250309T070000
END:DAYLIGHT
BEGIN:STANDARD
TZOFFSETFROM:-0400
TZOFFSETTO:-0500
TZNAME:EST
DTSTART:20251102T060000
END:STANDARD
BEGIN:DAYLIGHT
TZOFFSETFROM:-0500
TZOFFSETTO:-0400
TZNAME:EDT
DTSTART:20260308T070000
END:DAYLIGHT
BEGIN:STANDARD
TZOFFSETFROM:-0400
TZOFFSETTO:-0500
TZNAME:EST
DTSTART:20261101T060000
END:STANDARD
END:VTIMEZONE
BEGIN:VEVENT
DTSTART;TZID=America/New_York:20250323T170000
DTEND;TZID=America/New_York:20250323T203000
DTSTAMP:20260424T201134
CREATED:20250211T175301Z
LAST-MODIFIED:20250320T132855Z
UID:1613-1742749200-1742761800@dapperowl.coffee
SUMMARY:Poetry In The Boro
DESCRIPTION:Join us Sunday evening\, 3/23\, at @dapperowltn for a special all-genre open mic and launch party for the new issue of the literary journal SHIFT! We’ll hear from some of the contributors\, and copies will be available for sale. \nAll the details are at our profile link or https://poetryintheboro.org/ \n2025/03/join-us-march-23-open-mic-shift-literary-journa/
URL:https://dapperowl.coffee/event/poetry-in-the-boro-7/
CATEGORIES:Poetry in the Boro
ATTACH;FMTTYPE=image/jpeg:https://dapperowl.coffee/wp-content/uploads/2025/02/IMG_2028.jpg
END:VEVENT
END:VCALENDAR