BEGIN:VCALENDAR
VERSION:2.0
PRODID:-//Dapper Owl Coffee Pub &amp; Bakery - ECPv6.15.18//NONSGML v1.0//EN
CALSCALE:GREGORIAN
METHOD:PUBLISH
X-WR-CALNAME:Dapper Owl Coffee Pub &amp; Bakery
X-ORIGINAL-URL:https://dapperowl.coffee
X-WR-CALDESC:Events for Dapper Owl Coffee Pub &amp; Bakery
REFRESH-INTERVAL;VALUE=DURATION:PT1H
X-Robots-Tag:noindex
X-PUBLISHED-TTL:PT1H
BEGIN:VTIMEZONE
TZID:America/New_York
BEGIN:DAYLIGHT
TZOFFSETFROM:-0500
TZOFFSETTO:-0400
TZNAME:EDT
DTSTART:20240310T070000
END:DAYLIGHT
BEGIN:STANDARD
TZOFFSETFROM:-0400
TZOFFSETTO:-0500
TZNAME:EST
DTSTART:20241103T060000
END:STANDARD
BEGIN:DAYLIGHT
TZOFFSETFROM:-0500
TZOFFSETTO:-0400
TZNAME:EDT
DTSTART:20250309T070000
END:DAYLIGHT
BEGIN:STANDARD
TZOFFSETFROM:-0400
TZOFFSETTO:-0500
TZNAME:EST
DTSTART:20251102T060000
END:STANDARD
BEGIN:DAYLIGHT
TZOFFSETFROM:-0500
TZOFFSETTO:-0400
TZNAME:EDT
DTSTART:20260308T070000
END:DAYLIGHT
BEGIN:STANDARD
TZOFFSETFROM:-0400
TZOFFSETTO:-0500
TZNAME:EST
DTSTART:20261101T060000
END:STANDARD
END:VTIMEZONE
BEGIN:VEVENT
DTSTART;TZID=America/New_York:20250828T173000
DTEND;TZID=America/New_York:20250828T193000
DTSTAMP:20260422T185343
CREATED:20250728T152201Z
LAST-MODIFIED:20250728T152201Z
UID:1933-1756402200-1756409400@dapperowl.coffee
SUMMARY:Silent Book Club
DESCRIPTION:
URL:https://dapperowl.coffee/event/silent-book-club-33/
CATEGORIES:Book Club
ATTACH;FMTTYPE=image/jpeg:https://dapperowl.coffee/wp-content/uploads/2024/09/IMG_6811.jpg
END:VEVENT
BEGIN:VEVENT
DTSTART;TZID=America/New_York:20250824T173000
DTEND;TZID=America/New_York:20250824T203000
DTSTAMP:20260422T185343
CREATED:20250702T171015Z
LAST-MODIFIED:20250702T171015Z
UID:1907-1756056600-1756067400@dapperowl.coffee
SUMMARY:Poetry in the Boro
DESCRIPTION:
URL:https://dapperowl.coffee/event/poetry-in-the-boro-9/
CATEGORIES:Poetry in the Boro
ATTACH;FMTTYPE=image/jpeg:https://dapperowl.coffee/wp-content/uploads/2024/06/event-poetry-in-the-boro.jpg
END:VEVENT
BEGIN:VEVENT
DTSTART;TZID=America/New_York:20250813T173000
DTEND;TZID=America/New_York:20250813T190000
DTSTAMP:20260422T185343
CREATED:20250520T174318Z
LAST-MODIFIED:20250520T174318Z
UID:1862-1755106200-1755111600@dapperowl.coffee
SUMMARY:Silen Book Club
DESCRIPTION:
URL:https://dapperowl.coffee/event/silen-book-club/
CATEGORIES:Book Club
ATTACH;FMTTYPE=image/jpeg:https://dapperowl.coffee/wp-content/uploads/2024/09/IMG_6811.jpg
END:VEVENT
BEGIN:VEVENT
DTSTART;TZID=America/New_York:20250810T150000
DTEND;TZID=America/New_York:20250810T170000
DTSTAMP:20260422T185343
CREATED:20250702T170410Z
LAST-MODIFIED:20250728T152423Z
UID:1888-1754838000-1754845200@dapperowl.coffee
SUMMARY:Writers Mingle
DESCRIPTION:
URL:https://dapperowl.coffee/event/writers-mingle-5/
CATEGORIES:Writera Mingle
ATTACH;FMTTYPE=image/jpeg:https://dapperowl.coffee/wp-content/uploads/2025/07/IMG_6382.jpg
END:VEVENT
BEGIN:VEVENT
DTSTART;TZID=America/New_York:20250720T153000
DTEND;TZID=America/New_York:20250720T170000
DTSTAMP:20260422T185343
CREATED:20250520T173949Z
LAST-MODIFIED:20250520T173949Z
UID:1855-1753025400-1753030800@dapperowl.coffee
SUMMARY:Silent Book Club
DESCRIPTION:
URL:https://dapperowl.coffee/event/silent-book-club-32/
CATEGORIES:Book Club
ATTACH;FMTTYPE=image/jpeg:https://dapperowl.coffee/wp-content/uploads/2024/09/IMG_6811.jpg
END:VEVENT
BEGIN:VEVENT
DTSTART;TZID=America/New_York:20250713T150000
DTEND;TZID=America/New_York:20250713T170000
DTSTAMP:20260422T185343
CREATED:20250702T170312Z
LAST-MODIFIED:20250702T170312Z
UID:1884-1752418800-1752426000@dapperowl.coffee
SUMMARY:Writers Mingle
DESCRIPTION:
URL:https://dapperowl.coffee/event/writers-mingle-4/
CATEGORIES:Writera Mingle
ATTACH;FMTTYPE=image/png:https://dapperowl.coffee/wp-content/uploads/2024/07/cropped-dapper-owl-logo-round-v2.png
END:VEVENT
BEGIN:VEVENT
DTSTART;TZID=America/New_York:20250710T173000
DTEND;TZID=America/New_York:20250710T190000
DTSTAMP:20260422T185343
CREATED:20250520T173628Z
LAST-MODIFIED:20250520T173628Z
UID:1851-1752168600-1752174000@dapperowl.coffee
SUMMARY:Silent Book Club
DESCRIPTION:
URL:https://dapperowl.coffee/event/silent-book-club-31/
CATEGORIES:Book Club
ATTACH;FMTTYPE=image/jpeg:https://dapperowl.coffee/wp-content/uploads/2024/09/IMG_6811.jpg
END:VEVENT
BEGIN:VEVENT
DTSTART;TZID=America/New_York:20250629T170000
DTEND;TZID=America/New_York:20250629T200000
DTSTAMP:20260422T185343
CREATED:20250520T174907Z
LAST-MODIFIED:20250520T174907Z
UID:1870-1751216400-1751227200@dapperowl.coffee
SUMMARY:Poetry In The Boro
DESCRIPTION:
URL:https://dapperowl.coffee/event/poetry-in-the-boro-8/
CATEGORIES:Poetry in the Boro
ATTACH;FMTTYPE=image/jpeg:https://dapperowl.coffee/wp-content/uploads/2024/06/event-poetry-in-the-boro.jpg
END:VEVENT
BEGIN:VEVENT
DTSTART;TZID=America/New_York:20250617T173000
DTEND;TZID=America/New_York:20250617T190000
DTSTAMP:20260422T185343
CREATED:20250520T173509Z
LAST-MODIFIED:20250520T173509Z
UID:1847-1750181400-1750186800@dapperowl.coffee
SUMMARY:Silent Book Club
DESCRIPTION:
URL:https://dapperowl.coffee/event/silent-book-club-30/
CATEGORIES:Book Club
ATTACH;FMTTYPE=image/jpeg:https://dapperowl.coffee/wp-content/uploads/2024/09/IMG_6811.jpg
END:VEVENT
BEGIN:VEVENT
DTSTART;TZID=America/New_York:20250608T150000
DTEND;TZID=America/New_York:20250608T170000
DTSTAMP:20260422T185343
CREATED:20250520T174641Z
LAST-MODIFIED:20250520T192640Z
UID:1866-1749394800-1749402000@dapperowl.coffee
SUMMARY:Writers Mingle
DESCRIPTION:June Writers Mingle\n\nSunday\, June 8\, 2025\n3:00 PM  5:00 PM\n\n\nDapper Owl Coffee Pub2412 East Main St.Murfreesboro\, TNUnited States (map)\n\n\nGoogle Calendar  ICS\n\n\n\n\n\n\n\n\n\nA mingle for creative writers will be held Sunday\, 6/8\, from 3 pm to 5 pm at the Dapper Owl coffee pub. Connect with other writers in a relaxed setting—and even sit down and write for a bit\, if you’re so inspired. Come and go anytime. Help us plan by RSVPing on this Google form. \n\n\n\n\n\n \n \n\n\n\n\n\n\n\n\n\n\nSponsored by the literary interest group of the Rutherford Arts Alliance\, Poetry in the Boro\, and MTSU Write\, this event is free and open to writers of all genres and experience levels (including “thinking about writing”). We encourage you to make a purchase from Dapper Owl in order to support this local business! \nMore about the mingle\nThe main goal of the mingle is for writers of all genres to connect and just hang out! We also hope to learn what the writing community might want for future mingles or events. For this mingle we plan: \n\n\nan activity corner for quick writing prompt games \n\n\na Shut Up and Write space: get a coffee and chat a while\, then sit down and write for an hour or so in Dapper Owl’s private room! \n\n\nat 3:45 PM\, a 10 minute program of writerly inspiration offered by this month’s guest host\, Carson Elliot. Carson will also be on hand to chat about writing and publishing. \n\n\nAbout our June host\n\n\n\n\n\n \n \n\n\n\n\nImage courtesy Adeli Brito \n\n\n\n\n\n\n\n\nAdeli Brito is a Cuban American writer whose fiction has appeared in The Acentos Review\, Hieroglyph\, Litbreak Magazine\, Moko Magazine\, and The Sandy River Review; her poetry\, nonfiction\, and numerous arts reviews have appeared in Novus Literary Journal\, New Rhythm Zine\, Compass Rose Literary Journal\, Closed Eye Open\, Cathexis Northwest Press\, Storyboard Memphis\, Underwood\, Snip Magazine\, All About Jazz\, Counterculture UK\, and EdgeNetwork. She holds an MFA and teaches literature and creative writing. \nAbout the venue and parking\nThe Dapper Owl coffee pub is located at 2412 East Main St. just past its intersection with Rutherford Blvd.\, on the east side of the MTSU campus. Overflow parking is on the Arnold Lane side of the building – pull in perpendicular to the building to allow more cars to fit (careful of the AC unit!) or park on the side of road down Arnold Lane (please don’t block any driveways). \n\nAgain\, if you plan to attend\, please RSVP on this Google form \n\n\n\n\n\n\n\n\nPosted in lit-events\nTagged murfreesboro\, Rutherford County\, creative writers\, fiction\, non-fiction\, poetry
URL:https://dapperowl.coffee/event/writers-mingle-3/
CATEGORIES:Writers Mingle
ATTACH;FMTTYPE=image/png:https://dapperowl.coffee/wp-content/uploads/2025/05/IMG_4009.png
END:VEVENT
BEGIN:VEVENT
DTSTART;TZID=America/New_York:20250605T173000
DTEND;TZID=America/New_York:20250605T190000
DTSTAMP:20260422T185343
CREATED:20250520T173239Z
LAST-MODIFIED:20250520T173239Z
UID:1843-1749144600-1749150000@dapperowl.coffee
SUMMARY:Silent Book Club
DESCRIPTION:
URL:https://dapperowl.coffee/event/silent-book-club-29/
CATEGORIES:Book Club
ATTACH;FMTTYPE=image/jpeg:https://dapperowl.coffee/wp-content/uploads/2024/09/IMG_6811.jpg
END:VEVENT
BEGIN:VEVENT
DTSTART;TZID=America/New_York:20250509T180000
DTEND;TZID=America/New_York:20250509T210000
DTSTAMP:20260422T185343
CREATED:20250319T175053Z
LAST-MODIFIED:20250320T132832Z
UID:1729-1746813600-1746824400@dapperowl.coffee
SUMMARY:Benevolent Friends
DESCRIPTION:Peace\, Love\, and Poetry: Open-Mic Night \n\nFriday\, May 9\, 2025\n6:00 PM  9:00 PM\nDapper Owl\n2412 East Main StreetMurfreesboro\, TN\, 37127United States (map)\n\nJoin us at the Dapper Owl Coffee Pub & Bakery on Friday\, May 9th\, for a groovy evening of open-mic poetry! Admission is free and doors open at 6 pm\, giving us time to mingle before we fire up the mic at 6:30. \nFeel free to sit back and listen – or bring your own original work to share. The evening is all about “Peace and Love\,” inviting writers to celebrate themes such as kindness\, compassion\, community\, and non-violence. Whether you’re a seasoned poet or just starting out\, your voice is welcome here. \nBring a friend and enjoy some good vibes. If you come hungry\, the Dapper Owl has great snacks and amazing coffee on their menu. Drip coffee and light nibbles will also be available at no charge. We can’t wait to see you! \nClick here for details around parking\, signups\, mic guidelines\, etc. \nPlease take care of yourself and be kind to everyone.
URL:https://dapperowl.coffee/event/benevolent-friends/
CATEGORIES:After Hours Events
ATTACH;FMTTYPE=image/jpeg:https://dapperowl.coffee/wp-content/uploads/2025/03/IMG_1616-3.jpg
END:VEVENT
BEGIN:VEVENT
DTSTART;TZID=America/New_York:20250509T180000
DTEND;TZID=America/New_York:20250509T203000
DTSTAMP:20260422T185343
CREATED:20250418T202536Z
LAST-MODIFIED:20250418T202536Z
UID:1798-1746813600-1746822600@dapperowl.coffee
SUMMARY:Poetry In The Boro & Benevolent Friends
DESCRIPTION:Peace\, Love…And Poetry
URL:https://dapperowl.coffee/event/poetry-in-the-boro-benevolent-friends/
CATEGORIES:Poetry in the Boro
ATTACH;FMTTYPE=image/jpeg:https://dapperowl.coffee/wp-content/uploads/2025/04/IMG_1616-3.jpg
END:VEVENT
BEGIN:VEVENT
DTSTART;TZID=America/New_York:20250426T063000
DTEND;TZID=America/New_York:20250426T170000
DTSTAMP:20260422T185343
CREATED:20250418T203450Z
LAST-MODIFIED:20250418T203702Z
UID:1803-1745649000-1745686800@dapperowl.coffee
SUMMARY:MTSU NSAI
DESCRIPTION:The MTSU Chapter of NSAl will be having an end of semester showcase April 25th from 6PM – 8PM!! We have a stellar lineup so make sure to show up for all of the amazing artists! See you then!!
URL:https://dapperowl.coffee/event/mtsu-nsai/
CATEGORIES:After Hours Events
ATTACH;FMTTYPE=image/jpeg:https://dapperowl.coffee/wp-content/uploads/2025/04/IMG_2916.jpg
END:VEVENT
BEGIN:VEVENT
DTSTART;TZID=America/New_York:20250424T173000
DTEND;TZID=America/New_York:20250424T190000
DTSTAMP:20260422T185343
CREATED:20250319T174540Z
LAST-MODIFIED:20250319T174540Z
UID:1725-1745515800-1745521200@dapperowl.coffee
SUMMARY:Silent Book Club
DESCRIPTION:
URL:https://dapperowl.coffee/event/silent-book-club-28/
CATEGORIES:Book Club
ATTACH;FMTTYPE=image/jpeg:https://dapperowl.coffee/wp-content/uploads/2024/09/IMG_6811.jpg
END:VEVENT
BEGIN:VEVENT
DTSTART;TZID=America/New_York:20250413T150000
DTEND;TZID=America/New_York:20250413T170000
DTSTAMP:20260422T185343
CREATED:20250319T174429Z
LAST-MODIFIED:20250320T132750Z
UID:1721-1744556400-1744563600@dapperowl.coffee
SUMMARY:Writers Mingle
DESCRIPTION:
URL:https://dapperowl.coffee/event/writers-mingle-2/
CATEGORIES:Writers Mingle
ATTACH;FMTTYPE=image/jpeg:https://dapperowl.coffee/wp-content/uploads/2025/03/IMG_3860.jpg
END:VEVENT
BEGIN:VEVENT
DTSTART;TZID=America/New_York:20250407T181500
DTEND;TZID=America/New_York:20250407T200000
DTSTAMP:20260422T185343
CREATED:20250319T173925Z
LAST-MODIFIED:20250319T173925Z
UID:1716-1744049700-1744056000@dapperowl.coffee
SUMMARY:Women Who Own - with Rebecca Gaunce
DESCRIPTION:“Down payments? Interest rates? Credit scores? Loan types? Inspections? Appraisals? Can I even afford to buy? Is now a good time to buy? \nThis FREE class is an excellent resource for any woman with a goal of homeownership in the next two years. The class is FOR women\, BY women with a financial advisor\, lender\, and Realtor there to share all the knowledge and answer all the questions about the home buying process. The evening is lighthearted\, but packed with education and resources with a side of encouragement and empowerment (and discounts as well)!”
URL:https://dapperowl.coffee/event/women-who-own-with-rebecca-gaunce/
CATEGORIES:After Hours Events
ATTACH;FMTTYPE=image/png:https://dapperowl.coffee/wp-content/uploads/2025/03/WWO-April-7-Instagram-Square.png
END:VEVENT
BEGIN:VEVENT
DTSTART;TZID=America/New_York:20250406T150000
DTEND;TZID=America/New_York:20250406T163000
DTSTAMP:20260422T185343
CREATED:20250319T173328Z
LAST-MODIFIED:20250319T173328Z
UID:1712-1743951600-1743957000@dapperowl.coffee
SUMMARY:Silent Book Club
DESCRIPTION:
URL:https://dapperowl.coffee/event/silent-book-club-27/
CATEGORIES:Book Club
ATTACH;FMTTYPE=image/jpeg:https://dapperowl.coffee/wp-content/uploads/2024/09/IMG_6811.jpg
END:VEVENT
BEGIN:VEVENT
DTSTART;TZID=America/New_York:20250329T160000
DTEND;TZID=America/New_York:20250329T193000
DTSTAMP:20260422T185343
CREATED:20250319T173125Z
LAST-MODIFIED:20250319T175317Z
UID:1708-1743264000-1743276600@dapperowl.coffee
SUMMARY:Private Event
DESCRIPTION:
URL:https://dapperowl.coffee/event/private-event/
CATEGORIES:After Hours Events
ATTACH;FMTTYPE=image/png:https://dapperowl.coffee/wp-content/uploads/2024/07/cropped-dapper-owl-logo-round-v2.png
END:VEVENT
BEGIN:VEVENT
DTSTART;TZID=America/New_York:20250326T173000
DTEND;TZID=America/New_York:20250326T190000
DTSTAMP:20260422T185343
CREATED:20250211T180050Z
LAST-MODIFIED:20250211T180050Z
UID:1625-1743010200-1743015600@dapperowl.coffee
SUMMARY:Silent Book Clun
DESCRIPTION:
URL:https://dapperowl.coffee/event/silent-book-clun/
CATEGORIES:Book Club
ATTACH;FMTTYPE=image/jpeg:https://dapperowl.coffee/wp-content/uploads/2024/09/IMG_6811.jpg
END:VEVENT
BEGIN:VEVENT
DTSTART;TZID=America/New_York:20250323T170000
DTEND;TZID=America/New_York:20250323T203000
DTSTAMP:20260422T185343
CREATED:20250211T175301Z
LAST-MODIFIED:20250320T132855Z
UID:1613-1742749200-1742761800@dapperowl.coffee
SUMMARY:Poetry In The Boro
DESCRIPTION:Join us Sunday evening\, 3/23\, at @dapperowltn for a special all-genre open mic and launch party for the new issue of the literary journal SHIFT! We’ll hear from some of the contributors\, and copies will be available for sale. \nAll the details are at our profile link or https://poetryintheboro.org/ \n2025/03/join-us-march-23-open-mic-shift-literary-journa/
URL:https://dapperowl.coffee/event/poetry-in-the-boro-7/
CATEGORIES:Poetry in the Boro
ATTACH;FMTTYPE=image/jpeg:https://dapperowl.coffee/wp-content/uploads/2025/02/IMG_2028.jpg
END:VEVENT
BEGIN:VEVENT
DTSTART;TZID=America/New_York:20250322T110000
DTEND;TZID=America/New_York:20250322T130000
DTSTAMP:20260422T185343
CREATED:20250319T172242Z
LAST-MODIFIED:20250319T172242Z
UID:1698-1742641200-1742648400@dapperowl.coffee
SUMMARY:Book Signing - Beth Riner
DESCRIPTION:Retired Riverdale teacher Beth Riner celebrates the release of her debut novel\, Odd Job Annie\, with a book signing from 11 a.m. to 1 p.m. Saturday\, March 22\, at Dapper Owl in Murfreesboro. \nThe coffee pub and bakery is located at 2412 E. Main Street near \nMTSU. Folks are welcome to stop by March 22 to get a book signed\, pick up a copy\, and visit with Riner. \nOdd Job Annie\, a modern cozy mystery\, is a rollicking roller coaster of a fast read garnering high praise on both Amazon and Goodreads. Sixty-two-year-old retired teacher Annie Cooper’s impulsive move to quirky Monteagle\, Tennessee\, sets the stage for hilarity when she takes odd jobs to offset her insurance costs\, stumbles across a mystery\, and unabashedly fantasizes about the men who cross her path. \nLike her main character\, Riner retired from a 23-year English teaching career with Rutherford County Schools and moved to Monteagle. Instead of odd jobs\, Riner began writing features for The Sewanee Mountain Messenger and The Grundy County Herald before penning her first novel. \nHer book was recently named a reading selection for the Methodist Sunday School Assembly’s 2025 Summer Program. \nThe second in the series is slated for release in February of 2026\, and Riner is knee-deep into the third. For more information\, see www.bethriner.com.
URL:https://dapperowl.coffee/event/book-signing-beth-riner/
CATEGORIES:Book Signing
ATTACH;FMTTYPE=image/jpeg:https://dapperowl.coffee/wp-content/uploads/2025/03/IMG_2027.jpg
END:VEVENT
BEGIN:VEVENT
DTSTART;TZID=America/New_York:20250321T060000
DTEND;TZID=America/New_York:20250321T213000
DTSTAMP:20260422T185343
CREATED:20250319T171838Z
LAST-MODIFIED:20250319T171838Z
UID:1690-1742536800-1742592600@dapperowl.coffee
SUMMARY:Stand - Up Comedy Night
DESCRIPTION:UPDATE – Pub Night at The Owl \n**NO COVER** \nGet ready to laugh your heart out Friday 2/21/25! Join us for a night of hilarious stand-up comedy featuring some of the funniest talents around: \n🎭 Hosted by Nick Bush \n🎭 Featuring Teresa Morrison \, Kyle Kanouse and Mikah Wyman \n🍴 Savory bites and 🍺 beer will be  served to keep you fueled for the laughs. Need a pick-me-up? We’ve got ☕ lattes and cappuccinos too! \n⏰Doors open at 6:00 PM \n⏰ Show starts at 7:00 PM \nDon’t miss out on the funniest night of the week! Bring your friends\, grab a drink\, and let’s laugh the night away. 🎟️
URL:https://dapperowl.coffee/event/stand-up-comedy-night/
CATEGORIES:Stand Up Comedy Night
ATTACH;FMTTYPE=image/png:https://dapperowl.coffee/wp-content/uploads/2025/03/Red-and-Yellow-Stagelight-Broadway-Stand-up-Comedy-Poster.png
END:VEVENT
BEGIN:VEVENT
DTSTART;TZID=America/New_York:20250316T150000
DTEND;TZID=America/New_York:20250316T163000
DTSTAMP:20260422T185343
CREATED:20250211T175736Z
LAST-MODIFIED:20250211T175736Z
UID:1621-1742137200-1742142600@dapperowl.coffee
SUMMARY:Silent Book Club
DESCRIPTION:
URL:https://dapperowl.coffee/event/silent-book-club-25/
CATEGORIES:Book Club
ATTACH;FMTTYPE=image/jpeg:https://dapperowl.coffee/wp-content/uploads/2024/09/IMG_6811.jpg
END:VEVENT
BEGIN:VEVENT
DTSTART;TZID=America/New_York:20250310T170000
DTEND;TZID=America/New_York:20250310T190000
DTSTAMP:20260422T185343
CREATED:20250305T144354Z
LAST-MODIFIED:20250305T144354Z
UID:1683-1741626000-1741633200@dapperowl.coffee
SUMMARY:Silent Book Club
DESCRIPTION:
URL:https://dapperowl.coffee/event/silent-book-club-26/
CATEGORIES:Book Club
ATTACH;FMTTYPE=image/jpeg:https://dapperowl.coffee/wp-content/uploads/2024/09/IMG_6811.jpg
END:VEVENT
BEGIN:VEVENT
DTSTART;TZID=America/New_York:20250309T150000
DTEND;TZID=America/New_York:20250309T170000
DTSTAMP:20260422T185343
CREATED:20250211T175524Z
LAST-MODIFIED:20250217T153929Z
UID:1617-1741532400-1741539600@dapperowl.coffee
SUMMARY:Writers Mingle
DESCRIPTION:
URL:https://dapperowl.coffee/event/writers-mingle/
CATEGORIES:Writera Mingle
ATTACH;FMTTYPE=image/jpeg:https://dapperowl.coffee/wp-content/uploads/2024/08/gallery_pic.jpg
END:VEVENT
BEGIN:VEVENT
DTSTART;TZID=America/New_York:20250227T173000
DTEND;TZID=America/New_York:20250227T190000
DTSTAMP:20260422T185343
CREATED:20240930T153333Z
LAST-MODIFIED:20250116T155534Z
UID:1495-1740677400-1740682800@dapperowl.coffee
SUMMARY:Silent Book Club
DESCRIPTION:
URL:https://dapperowl.coffee/event/silent-book-club-24/
CATEGORIES:Book Club
ATTACH;FMTTYPE=image/jpeg:https://dapperowl.coffee/wp-content/uploads/2024/09/IMG_6811.jpg
END:VEVENT
BEGIN:VEVENT
DTSTART;TZID=America/New_York:20250223T173000
DTEND;TZID=America/New_York:20250223T203000
DTSTAMP:20260422T185343
CREATED:20250113T140723Z
LAST-MODIFIED:20250113T140723Z
UID:1598-1740331800-1740342600@dapperowl.coffee
SUMMARY:Poetry In The Poetry
DESCRIPTION:Poetry\, Open Mic \nhttps://poetryintheboro.org/2025/01/Feburary/-2025-poetry-openmic/
URL:https://dapperowl.coffee/event/poetry-in-the-poetry/
CATEGORIES:Poetry in the Boro
ATTACH;FMTTYPE=image/jpeg:https://dapperowl.coffee/wp-content/uploads/2024/06/event-poetry-in-the-boro.jpg
END:VEVENT
BEGIN:VEVENT
DTSTART;TZID=America/New_York:20250216T150000
DTEND;TZID=America/New_York:20250216T163000
DTSTAMP:20260422T185343
CREATED:20240930T153228Z
LAST-MODIFIED:20250116T155347Z
UID:1491-1739718000-1739723400@dapperowl.coffee
SUMMARY:Silent Book Club
DESCRIPTION:
URL:https://dapperowl.coffee/event/silent-book-club-23/
CATEGORIES:Book Club
ATTACH;FMTTYPE=image/jpeg:https://dapperowl.coffee/wp-content/uploads/2024/09/IMG_6811.jpg
END:VEVENT
BEGIN:VEVENT
DTSTART;TZID=America/New_York:20250205T173000
DTEND;TZID=America/New_York:20250205T190000
DTSTAMP:20260422T185343
CREATED:20240930T153037Z
LAST-MODIFIED:20250116T155424Z
UID:1487-1738776600-1738782000@dapperowl.coffee
SUMMARY:Silent Book Club
DESCRIPTION:
URL:https://dapperowl.coffee/event/silent-book-club-22/
CATEGORIES:Book Club
ATTACH;FMTTYPE=image/jpeg:https://dapperowl.coffee/wp-content/uploads/2024/09/IMG_6811.jpg
END:VEVENT
END:VCALENDAR