BEGIN:VCALENDAR
VERSION:2.0
PRODID:-//Dapper Owl Coffee Pub &amp; Bakery - ECPv6.15.18//NONSGML v1.0//EN
CALSCALE:GREGORIAN
METHOD:PUBLISH
X-ORIGINAL-URL:https://dapperowl.coffee
X-WR-CALDESC:Events for Dapper Owl Coffee Pub &amp; Bakery
REFRESH-INTERVAL;VALUE=DURATION:PT1H
X-Robots-Tag:noindex
X-PUBLISHED-TTL:PT1H
BEGIN:VTIMEZONE
TZID:America/New_York
BEGIN:DAYLIGHT
TZOFFSETFROM:-0500
TZOFFSETTO:-0400
TZNAME:EDT
DTSTART:20240310T070000
END:DAYLIGHT
BEGIN:STANDARD
TZOFFSETFROM:-0400
TZOFFSETTO:-0500
TZNAME:EST
DTSTART:20241103T060000
END:STANDARD
BEGIN:DAYLIGHT
TZOFFSETFROM:-0500
TZOFFSETTO:-0400
TZNAME:EDT
DTSTART:20250309T070000
END:DAYLIGHT
BEGIN:STANDARD
TZOFFSETFROM:-0400
TZOFFSETTO:-0500
TZNAME:EST
DTSTART:20251102T060000
END:STANDARD
BEGIN:DAYLIGHT
TZOFFSETFROM:-0500
TZOFFSETTO:-0400
TZNAME:EDT
DTSTART:20260308T070000
END:DAYLIGHT
BEGIN:STANDARD
TZOFFSETFROM:-0400
TZOFFSETTO:-0500
TZNAME:EST
DTSTART:20261101T060000
END:STANDARD
BEGIN:DAYLIGHT
TZOFFSETFROM:-0500
TZOFFSETTO:-0400
TZNAME:EDT
DTSTART:20270314T070000
END:DAYLIGHT
BEGIN:STANDARD
TZOFFSETFROM:-0400
TZOFFSETTO:-0500
TZNAME:EST
DTSTART:20271107T060000
END:STANDARD
END:VTIMEZONE
BEGIN:VEVENT
DTSTART;TZID=America/New_York:20251221T173000
DTEND;TZID=America/New_York:20251221T203000
DTSTAMP:20260422T180801
CREATED:20250702T171451Z
LAST-MODIFIED:20250702T171451Z
UID:1923-1766338200-1766349000@dapperowl.coffee
SUMMARY:Poetry in the Boro
DESCRIPTION:
URL:https://dapperowl.coffee/event/poetry-in-the-boro-13/
CATEGORIES:Poetry in the Boro
ATTACH;FMTTYPE=image/jpeg:https://dapperowl.coffee/wp-content/uploads/2024/06/event-poetry-in-the-boro.jpg
END:VEVENT
BEGIN:VEVENT
DTSTART;TZID=America/New_York:20260108T050000
DTEND;TZID=America/New_York:20260108T190000
DTSTAMP:20260422T180801
CREATED:20251214T134002Z
LAST-MODIFIED:20251214T134002Z
UID:2056-1767848400-1767898800@dapperowl.coffee
SUMMARY:Silent Book Club
DESCRIPTION:
URL:https://dapperowl.coffee/event/silent-book-club-38/
CATEGORIES:Book Club
ATTACH;FMTTYPE=image/jpeg:https://dapperowl.coffee/wp-content/uploads/2024/09/IMG_6811.jpg
END:VEVENT
BEGIN:VEVENT
DTSTART;TZID=America/New_York:20260111T150000
DTEND;TZID=America/New_York:20260111T170000
DTSTAMP:20260422T180801
CREATED:20251214T134409Z
LAST-MODIFIED:20251214T134409Z
UID:2064-1768143600-1768150800@dapperowl.coffee
SUMMARY:Writers Mingle
DESCRIPTION:
URL:https://dapperowl.coffee/event/writers-mingle-9/
CATEGORIES:Writera Mingle
ATTACH;FMTTYPE=image/png:https://dapperowl.coffee/wp-content/uploads/2025/12/Blue-and-Red-Vintage-Classic-Aesthetic-Young-Writers-Club-Logo-1.png
END:VEVENT
BEGIN:VEVENT
DTSTART;TZID=America/New_York:20260122T170000
DTEND;TZID=America/New_York:20260122T190000
DTSTAMP:20260422T180801
CREATED:20251214T134107Z
LAST-MODIFIED:20251214T134107Z
UID:2060-1769101200-1769108400@dapperowl.coffee
SUMMARY:Silent Book Club
DESCRIPTION:
URL:https://dapperowl.coffee/event/silent-book-club-39/
CATEGORIES:Book Club
ATTACH;FMTTYPE=image/jpeg:https://dapperowl.coffee/wp-content/uploads/2024/09/IMG_6811.jpg
END:VEVENT
BEGIN:VEVENT
DTSTART;TZID=America/New_York:20260125T173000
DTEND;TZID=America/New_York:20260125T203000
DTSTAMP:20260422T180801
CREATED:20251214T135237Z
LAST-MODIFIED:20251214T135237Z
UID:2081-1769362200-1769373000@dapperowl.coffee
SUMMARY:Poetry In The Boro
DESCRIPTION:
URL:https://dapperowl.coffee/event/poetry-in-the-boro-12/
CATEGORIES:Poetry in the Boro
ATTACH;FMTTYPE=image/jpeg:https://dapperowl.coffee/wp-content/uploads/2024/06/event-poetry-in-the-boro.jpg
END:VEVENT
BEGIN:VEVENT
DTSTART;TZID=America/New_York:20260208T150000
DTEND;TZID=America/New_York:20260208T170000
DTSTAMP:20260422T180801
CREATED:20251214T134515Z
LAST-MODIFIED:20251214T134658Z
UID:2069-1770562800-1770570000@dapperowl.coffee
SUMMARY:Writers Mingle
DESCRIPTION:
URL:https://dapperowl.coffee/event/writers-mingle-10/
CATEGORIES:Writers Mingle
ATTACH;FMTTYPE=image/png:https://dapperowl.coffee/wp-content/uploads/2025/12/Blue-and-Red-Vintage-Classic-Aesthetic-Young-Writers-Club-Logo-1.png
END:VEVENT
BEGIN:VEVENT
DTSTART;TZID=America/New_York:20260222T053000
DTEND;TZID=America/New_York:20260222T203000
DTSTAMP:20260422T180801
CREATED:20251214T135942Z
LAST-MODIFIED:20251214T135942Z
UID:2093-1771738200-1771792200@dapperowl.coffee
SUMMARY:Poetry In The Boro
DESCRIPTION:
URL:https://dapperowl.coffee/event/poetry-in-the-boro-16/
CATEGORIES:Poetry in the Boro
ATTACH;FMTTYPE=image/jpeg:https://dapperowl.coffee/wp-content/uploads/2024/06/event-poetry-in-the-boro.jpg
END:VEVENT
BEGIN:VEVENT
DTSTART;TZID=America/New_York:20260308T150000
DTEND;TZID=America/New_York:20260308T170000
DTSTAMP:20260422T180801
CREATED:20251214T134618Z
LAST-MODIFIED:20251214T134618Z
UID:2073-1772982000-1772989200@dapperowl.coffee
SUMMARY:Writers Mingle
DESCRIPTION:
URL:https://dapperowl.coffee/event/writers-mingle-11/
CATEGORIES:Writers Mingle
ATTACH;FMTTYPE=image/png:https://dapperowl.coffee/wp-content/uploads/2025/12/Blue-and-Red-Vintage-Classic-Aesthetic-Young-Writers-Club-Logo-1.png
END:VEVENT
BEGIN:VEVENT
DTSTART;TZID=America/New_York:20260412T150000
DTEND;TZID=America/New_York:20260412T170000
DTSTAMP:20260422T180801
CREATED:20251214T134808Z
LAST-MODIFIED:20251214T134808Z
UID:2077-1776006000-1776013200@dapperowl.coffee
SUMMARY:Writers Mingle
DESCRIPTION:
URL:https://dapperowl.coffee/event/writers-mingle-12/
CATEGORIES:Writers Mingle
ATTACH;FMTTYPE=image/png:https://dapperowl.coffee/wp-content/uploads/2025/12/Blue-and-Red-Vintage-Classic-Aesthetic-Young-Writers-Club-Logo-1.png
END:VEVENT
BEGIN:VEVENT
DTSTART;TZID=America/New_York:20260426T173000
DTEND;TZID=America/New_York:20260426T203000
DTSTAMP:20260422T180801
CREATED:20251214T140148Z
LAST-MODIFIED:20251214T140148Z
UID:2097-1777224600-1777235400@dapperowl.coffee
SUMMARY:Poetry In The Boro
DESCRIPTION:
URL:https://dapperowl.coffee/event/poetry-in-the-boro-17/
CATEGORIES:Poetry in the Boro
ATTACH;FMTTYPE=image/jpeg:https://dapperowl.coffee/wp-content/uploads/2024/06/event-poetry-in-the-boro.jpg
END:VEVENT
BEGIN:VEVENT
DTSTART;TZID=America/New_York:20260613T140000
DTEND;TZID=America/New_York:20260613T200000
DTSTAMP:20260422T180801
CREATED:20260420T184639Z
LAST-MODIFIED:20260420T184639Z
UID:2316-1781359200-1781380800@dapperowl.coffee
SUMMARY:RUCO Pride
DESCRIPTION:Onsite @Oaklands Mansion 2PM to 8PM
URL:https://dapperowl.coffee/event/ruco-pride/
ATTACH;FMTTYPE=image/jpeg:https://dapperowl.coffee/wp-content/uploads/2026/04/032223_SocialPosts_Love.jpg
END:VEVENT
BEGIN:VEVENT
DTSTART;TZID=America/New_York:20260614T150000
DTEND;TZID=America/New_York:20260614T170000
DTSTAMP:20260422T180801
CREATED:20260420T183006Z
LAST-MODIFIED:20260420T183006Z
UID:2292-1781449200-1781456400@dapperowl.coffee
SUMMARY:Writers Mingle
DESCRIPTION:
URL:https://dapperowl.coffee/event/writers-mingle-13/
CATEGORIES:Writers Mingle
ATTACH;FMTTYPE=image/png:https://dapperowl.coffee/wp-content/uploads/2025/12/Blue-and-Red-Vintage-Classic-Aesthetic-Young-Writers-Club-Logo-1.png
END:VEVENT
BEGIN:VEVENT
DTSTART;TZID=America/New_York:20260628T170000
DTEND;TZID=America/New_York:20260628T203000
DTSTAMP:20260422T180801
CREATED:20260420T183624Z
LAST-MODIFIED:20260420T183624Z
UID:2304-1782666000-1782678600@dapperowl.coffee
SUMMARY:Poetry in the Boro
DESCRIPTION:
URL:https://dapperowl.coffee/event/poetry-in-the-boro-14/
CATEGORIES:Poetry in the Boro
ATTACH;FMTTYPE=image/jpeg:https://dapperowl.coffee/wp-content/uploads/2024/06/event-poetry-in-the-boro.jpg
END:VEVENT
BEGIN:VEVENT
DTSTART;TZID=America/New_York:20260712T150000
DTEND;TZID=America/New_York:20260712T170000
DTSTAMP:20260422T180801
CREATED:20260420T183105Z
LAST-MODIFIED:20260420T183105Z
UID:2296-1783868400-1783875600@dapperowl.coffee
SUMMARY:Writers Mingle
DESCRIPTION:
URL:https://dapperowl.coffee/event/writers-mingle-14/
CATEGORIES:Writers Mingle
ATTACH;FMTTYPE=image/png:https://dapperowl.coffee/wp-content/uploads/2025/12/Blue-and-Red-Vintage-Classic-Aesthetic-Young-Writers-Club-Logo-1.png
END:VEVENT
BEGIN:VEVENT
DTSTART;TZID=America/New_York:20260726T170000
DTEND;TZID=America/New_York:20260726T203000
DTSTAMP:20260422T180801
CREATED:20260420T183740Z
LAST-MODIFIED:20260420T183740Z
UID:2308-1785085200-1785097800@dapperowl.coffee
SUMMARY:Poetry in the Boro
DESCRIPTION:
URL:https://dapperowl.coffee/event/poetry-in-the-boro-15/
CATEGORIES:Poetry in the Boro
ATTACH;FMTTYPE=image/jpeg:https://dapperowl.coffee/wp-content/uploads/2024/06/event-poetry-in-the-boro.jpg
END:VEVENT
BEGIN:VEVENT
DTSTART;TZID=America/New_York:20260809T150000
DTEND;TZID=America/New_York:20260809T170000
DTSTAMP:20260422T180801
CREATED:20260420T183223Z
LAST-MODIFIED:20260420T183223Z
UID:2300-1786287600-1786294800@dapperowl.coffee
SUMMARY:Writers Mingle
DESCRIPTION:
URL:https://dapperowl.coffee/event/writers-mingle-15/
CATEGORIES:Writers Mingle
ATTACH;FMTTYPE=image/png:https://dapperowl.coffee/wp-content/uploads/2025/12/Blue-and-Red-Vintage-Classic-Aesthetic-Young-Writers-Club-Logo-1.png
END:VEVENT
BEGIN:VEVENT
DTSTART;TZID=America/New_York:20260830T170000
DTEND;TZID=America/New_York:20260830T203000
DTSTAMP:20260422T180801
CREATED:20260420T183850Z
LAST-MODIFIED:20260420T183850Z
UID:2312-1788109200-1788121800@dapperowl.coffee
SUMMARY:Poetry in the Boro
DESCRIPTION:
URL:https://dapperowl.coffee/event/poetry-in-the-boro-18/
CATEGORIES:Poetry in the Boro
ATTACH;FMTTYPE=image/jpeg:https://dapperowl.coffee/wp-content/uploads/2024/06/event-poetry-in-the-boro.jpg
END:VEVENT
END:VCALENDAR