BEGIN:VCALENDAR
VERSION:2.0
PRODID:-//Dapper Owl Coffee Pub &amp; Bakery - ECPv6.15.18//NONSGML v1.0//EN
CALSCALE:GREGORIAN
METHOD:PUBLISH
X-WR-CALNAME:Dapper Owl Coffee Pub &amp; Bakery
X-ORIGINAL-URL:https://dapperowl.coffee
X-WR-CALDESC:Events for Dapper Owl Coffee Pub &amp; Bakery
REFRESH-INTERVAL;VALUE=DURATION:PT1H
X-Robots-Tag:noindex
X-PUBLISHED-TTL:PT1H
BEGIN:VTIMEZONE
TZID:UTC
BEGIN:STANDARD
TZOFFSETFROM:+0000
TZOFFSETTO:+0000
TZNAME:UTC
DTSTART:20230101T000000
END:STANDARD
END:VTIMEZONE
BEGIN:VTIMEZONE
TZID:America/New_York
BEGIN:DAYLIGHT
TZOFFSETFROM:-0500
TZOFFSETTO:-0400
TZNAME:EDT
DTSTART:20230312T070000
END:DAYLIGHT
BEGIN:STANDARD
TZOFFSETFROM:-0400
TZOFFSETTO:-0500
TZNAME:EST
DTSTART:20231105T060000
END:STANDARD
BEGIN:DAYLIGHT
TZOFFSETFROM:-0500
TZOFFSETTO:-0400
TZNAME:EDT
DTSTART:20240310T070000
END:DAYLIGHT
BEGIN:STANDARD
TZOFFSETFROM:-0400
TZOFFSETTO:-0500
TZNAME:EST
DTSTART:20241103T060000
END:STANDARD
BEGIN:DAYLIGHT
TZOFFSETFROM:-0500
TZOFFSETTO:-0400
TZNAME:EDT
DTSTART:20250309T070000
END:DAYLIGHT
BEGIN:STANDARD
TZOFFSETFROM:-0400
TZOFFSETTO:-0500
TZNAME:EST
DTSTART:20251102T060000
END:STANDARD
END:VTIMEZONE
BEGIN:VEVENT
DTSTART;TZID=UTC:20241217T193000
DTEND;TZID=UTC:20241217T213000
DTSTAMP:20260423T021302
CREATED:20240820T215341Z
LAST-MODIFIED:20240820T215341Z
UID:1285-1734463800-1734471000@dapperowl.coffee
SUMMARY:Boro Books and Brews Book Club
DESCRIPTION:
URL:https://dapperowl.coffee/event/boro-books-and-brews-book-club-2/
CATEGORIES:Book Club
ATTACH;FMTTYPE=image/jpeg:https://dapperowl.coffee/wp-content/uploads/2024/08/Boro_Books_and_Brews_logo.jpg
END:VEVENT
BEGIN:VEVENT
DTSTART;TZID=America/New_York:20241214T090000
DTEND;TZID=America/New_York:20241214T110000
DTSTAMP:20260423T021302
CREATED:20241117T144116Z
LAST-MODIFIED:20241117T144116Z
UID:1524-1734166800-1734174000@dapperowl.coffee
SUMMARY:Coffee Notes
DESCRIPTION:Jake Vrazel
URL:https://dapperowl.coffee/event/coffee-notes-7/
CATEGORIES:Coffee Notes
ATTACH;FMTTYPE=image/jpeg:https://dapperowl.coffee/wp-content/uploads/2024/07/event_coffee_notes_thumbnail_2.jpg
END:VEVENT
BEGIN:VEVENT
DTSTART;TZID=America/New_York:20241210T170000
DTEND;TZID=America/New_York:20241210T190000
DTSTAMP:20260423T021302
CREATED:20241203T192927Z
LAST-MODIFIED:20241203T193154Z
UID:1575-1733850000-1733857200@dapperowl.coffee
SUMMARY:Silent Book Club
DESCRIPTION:
URL:https://dapperowl.coffee/event/silent-book-club-21/
CATEGORIES:Book Club
ATTACH;FMTTYPE=image/jpeg:https://dapperowl.coffee/wp-content/uploads/2024/09/IMG_6811.jpg
END:VEVENT
BEGIN:VEVENT
DTSTART;TZID=America/New_York:20241207T090000
DTEND;TZID=America/New_York:20241207T120000
DTSTAMP:20260423T021302
CREATED:20241130T212956Z
LAST-MODIFIED:20241130T212956Z
UID:1560-1733562000-1733572800@dapperowl.coffee
SUMMARY:David Guydon Trio - Holiday Jazz
DESCRIPTION:
URL:https://dapperowl.coffee/event/david-guydon-trio-holiday-jazz/
CATEGORIES:Coffee Notes
ATTACH;FMTTYPE=image/jpeg:https://dapperowl.coffee/wp-content/uploads/2024/11/IMG_8456-2.jpg
END:VEVENT
BEGIN:VEVENT
DTSTART;TZID=America/New_York:20241203T170000
DTEND;TZID=America/New_York:20241203T190000
DTSTAMP:20260423T021302
CREATED:20240930T143938Z
LAST-MODIFIED:20240930T144154Z
UID:1453-1733245200-1733252400@dapperowl.coffee
SUMMARY:Silent Book Club
DESCRIPTION:
URL:https://dapperowl.coffee/event/silent-book-club-16/
CATEGORIES:Book Club
ATTACH;FMTTYPE=image/jpeg:https://dapperowl.coffee/wp-content/uploads/2024/09/IMG_6811.jpg
END:VEVENT
BEGIN:VEVENT
DTSTART;TZID=America/New_York:20241123T091500
DTEND;TZID=America/New_York:20241123T100000
DTSTAMP:20260423T021302
CREATED:20241117T145047Z
LAST-MODIFIED:20241117T145047Z
UID:1536-1732353300-1732356000@dapperowl.coffee
SUMMARY:Coffee Notes
DESCRIPTION:Riley Lynn 9:15am – 10;00am
URL:https://dapperowl.coffee/event/coffee-notes-9/
CATEGORIES:Coffee Notes
ATTACH;FMTTYPE=image/jpeg:https://dapperowl.coffee/wp-content/uploads/2024/07/event_coffee_notes_thumbnail_2.jpg
END:VEVENT
BEGIN:VEVENT
DTSTART;TZID=America/New_York:20241121T170000
DTEND;TZID=America/New_York:20241121T190000
DTSTAMP:20260423T021302
CREATED:20240930T143430Z
LAST-MODIFIED:20240930T143430Z
UID:1449-1732208400-1732215600@dapperowl.coffee
SUMMARY:Silent Book Club
DESCRIPTION:
URL:https://dapperowl.coffee/event/silent-book-club-15/
CATEGORIES:Book Club
ATTACH;FMTTYPE=image/jpeg:https://dapperowl.coffee/wp-content/uploads/2024/09/IMG_6811.jpg
END:VEVENT
BEGIN:VEVENT
DTSTART;TZID=UTC:20241119T193000
DTEND;TZID=UTC:20241119T213000
DTSTAMP:20260423T021302
CREATED:20240815T201152Z
LAST-MODIFIED:20240820T215320Z
UID:1243-1732044600-1732051800@dapperowl.coffee
SUMMARY:Boro Books and Brews Book Club
DESCRIPTION:
URL:https://dapperowl.coffee/event/boro-books-and-brews-book-club/
CATEGORIES:Book Club
ATTACH;FMTTYPE=image/jpeg:https://dapperowl.coffee/wp-content/uploads/2024/08/Boro_Books_and_Brews_logo.jpg
END:VEVENT
BEGIN:VEVENT
DTSTART;TZID=America/New_York:20241117T173000
DTEND;TZID=America/New_York:20241117T203000
DTSTAMP:20260423T021302
CREATED:20241109T095413Z
LAST-MODIFIED:20241109T095413Z
UID:1512-1731864600-1731875400@dapperowl.coffee
SUMMARY:Poetry in the Boro
DESCRIPTION:
URL:https://dapperowl.coffee/event/poetry-in-the-boro-4/
CATEGORIES:Poetry in the Boro
ATTACH;FMTTYPE=image/jpeg:https://dapperowl.coffee/wp-content/uploads/2024/06/event-poetry-in-the-boro.jpg
END:VEVENT
BEGIN:VEVENT
DTSTART;TZID=America/New_York:20241114T170000
DTEND;TZID=America/New_York:20241114T190000
DTSTAMP:20260423T021302
CREATED:20240930T142955Z
LAST-MODIFIED:20240930T142955Z
UID:1445-1731603600-1731610800@dapperowl.coffee
SUMMARY:Silent Book Club
DESCRIPTION:
URL:https://dapperowl.coffee/event/silent-book-club-14/
CATEGORIES:Book Club
ATTACH;FMTTYPE=image/jpeg:https://dapperowl.coffee/wp-content/uploads/2024/09/IMG_6811.jpg
END:VEVENT
BEGIN:VEVENT
DTSTART;TZID=America/New_York:20241109T090000
DTEND;TZID=America/New_York:20241109T110000
DTSTAMP:20260423T021302
CREATED:20240930T133300Z
LAST-MODIFIED:20240930T133601Z
UID:1429-1731142800-1731150000@dapperowl.coffee
SUMMARY:Coffee Notes
DESCRIPTION:Performers – Cade Ortega 9:15am-10:00am
URL:https://dapperowl.coffee/event/coffee-notes-6/
CATEGORIES:Coffee Notes
ATTACH;FMTTYPE=image/jpeg:https://dapperowl.coffee/wp-content/uploads/2024/07/event_coffee_notes_thumbnail_2.jpg
END:VEVENT
BEGIN:VEVENT
DTSTART;TZID=America/New_York:20241107T170000
DTEND;TZID=America/New_York:20241107T190000
DTSTAMP:20260423T021302
CREATED:20240930T142751Z
LAST-MODIFIED:20240930T142751Z
UID:1441-1730998800-1731006000@dapperowl.coffee
SUMMARY:Silent Book Club
DESCRIPTION:
URL:https://dapperowl.coffee/event/silent-book-club-13/
CATEGORIES:Book Club
ATTACH;FMTTYPE=image/jpeg:https://dapperowl.coffee/wp-content/uploads/2024/09/IMG_6811.jpg
END:VEVENT
BEGIN:VEVENT
DTSTART;TZID=UTC:20241029T170000
DTEND;TZID=UTC:20241029T190000
DTSTAMP:20260423T021302
CREATED:20240829T191907Z
LAST-MODIFIED:20240829T191907Z
UID:1366-1730221200-1730228400@dapperowl.coffee
SUMMARY:Silent Book Club
DESCRIPTION:The goal of SBC Murfreesboro is to provide a time and space for everyone to carve a little time out of their day to read. We have busy lives\, and sometimes it’s hard to find a quiet spot or time to read. Fear not in these times\, for you can count on SBC Murfreesboro to provide that for you! \nBring your own book and enjoy some quiet reading time!
URL:https://dapperowl.coffee/event/silent-book-club-12/
CATEGORIES:Book Club
ATTACH;FMTTYPE=image/jpeg:https://dapperowl.coffee/wp-content/uploads/2024/06/silent-book-club-logo.jpg
END:VEVENT
BEGIN:VEVENT
DTSTART;TZID=UTC:20241026T091500
DTEND;TZID=UTC:20241026T110000
DTSTAMP:20260423T021302
CREATED:20240829T193633Z
LAST-MODIFIED:20240902T092905Z
UID:1373-1729934100-1729940400@dapperowl.coffee
SUMMARY:Coffee Notes
DESCRIPTION:Performers \nLily Hart – 9:15am – 10:00am \nNatalie Shunk – 10:00am -11:00am \n 
URL:https://dapperowl.coffee/event/coffee-notes-4/
CATEGORIES:Coffee Notes
ATTACH;FMTTYPE=image/jpeg:https://dapperowl.coffee/wp-content/uploads/2024/07/event_coffee_notes_thumbnail_2.jpg
END:VEVENT
BEGIN:VEVENT
DTSTART;TZID=UTC:20241022T170000
DTEND;TZID=UTC:20241022T190000
DTSTAMP:20260423T021302
CREATED:20240829T191809Z
LAST-MODIFIED:20240829T191809Z
UID:1364-1729616400-1729623600@dapperowl.coffee
SUMMARY:Silent Book Club
DESCRIPTION:The goal of SBC Murfreesboro is to provide a time and space for everyone to carve a little time out of their day to read. We have busy lives\, and sometimes it’s hard to find a quiet spot or time to read. Fear not in these times\, for you can count on SBC Murfreesboro to provide that for you! \nBring your own book and enjoy some quiet reading time!
URL:https://dapperowl.coffee/event/silent-book-club-11/
CATEGORIES:Book Club
ATTACH;FMTTYPE=image/jpeg:https://dapperowl.coffee/wp-content/uploads/2024/06/silent-book-club-logo.jpg
END:VEVENT
BEGIN:VEVENT
DTSTART;TZID=UTC:20241020T173000
DTEND;TZID=UTC:20241020T173000
DTSTAMP:20260423T021302
CREATED:20240822T004108Z
LAST-MODIFIED:20240822T004108Z
UID:1325-1729445400-1729445400@dapperowl.coffee
SUMMARY:Poetry in the Boro
DESCRIPTION:Doors open @ 5:30pm
URL:https://dapperowl.coffee/event/poetry-in-the-boro-3/
CATEGORIES:Poetry in the Boro
ATTACH;FMTTYPE=image/jpeg:https://dapperowl.coffee/wp-content/uploads/2024/06/event-poetry-in-the-boro.jpg
END:VEVENT
BEGIN:VEVENT
DTSTART;TZID=UTC:20241012T091500
DTEND;TZID=UTC:20241012T110000
DTSTAMP:20260423T021302
CREATED:20240829T193147Z
LAST-MODIFIED:20241007T113120Z
UID:1371-1728724500-1728730800@dapperowl.coffee
SUMMARY:Coffee Notes
DESCRIPTION:Performers \nLiv Denney – 9:15am to 10:00a \nJayme Graves. – 10:15am – 11:00am \n 
URL:https://dapperowl.coffee/event/coffee-notes-3/
CATEGORIES:Coffee Notes
ATTACH;FMTTYPE=image/jpeg:https://dapperowl.coffee/wp-content/uploads/2024/07/event_coffee_notes_thumbnail_2.jpg
END:VEVENT
BEGIN:VEVENT
DTSTART;TZID=UTC:20241008T170000
DTEND;TZID=UTC:20241008T190000
DTSTAMP:20260423T021302
CREATED:20240829T191557Z
LAST-MODIFIED:20240829T191557Z
UID:1361-1728406800-1728414000@dapperowl.coffee
SUMMARY:Silent Book Club
DESCRIPTION:The goal of SBC Murfreesboro is to provide a time and space for everyone to carve a little time out of their day to read. We have busy lives\, and sometimes it’s hard to find a quiet spot or time to read. Fear not in these times\, for you can count on SBC Murfreesboro to provide that for you! \nBring your own book and enjoy some quiet reading time!
URL:https://dapperowl.coffee/event/silent-book-club-10/
CATEGORIES:Book Club
ATTACH;FMTTYPE=image/jpeg:https://dapperowl.coffee/wp-content/uploads/2024/06/silent-book-club-logo.jpg
END:VEVENT
BEGIN:VEVENT
DTSTART;TZID=America/New_York:20241003T053000
DTEND;TZID=America/New_York:20241003T193000
DTSTAMP:20260423T021302
CREATED:20240829T195420Z
LAST-MODIFIED:20240830T202919Z
UID:1379-1727933400-1727983800@dapperowl.coffee
SUMMARY:Tennessee Pride Chamber Event
DESCRIPTION:
URL:https://dapperowl.coffee/event/tennessee-pride-chamber-event/
CATEGORIES:General Events
ATTACH;FMTTYPE=image/png:https://dapperowl.coffee/wp-content/uploads/2024/08/TNPC_Logo_Gradient-Black.png
END:VEVENT
BEGIN:VEVENT
DTSTART;TZID=UTC:20240928T091500
DTEND;TZID=UTC:20240928T110000
DTSTAMP:20260423T021302
CREATED:20240829T192422Z
LAST-MODIFIED:20240829T201805Z
UID:1368-1727514900-1727521200@dapperowl.coffee
SUMMARY:Coffee Notes
DESCRIPTION:Chandra Knudsen 9:15am to 10:00am \nEva Christine 10:00am to 11:00am
URL:https://dapperowl.coffee/event/coffee-notes-2/
CATEGORIES:Coffee Notes
ATTACH;FMTTYPE=image/jpeg:https://dapperowl.coffee/wp-content/uploads/2024/07/event_coffee_notes_thumbnail_2.jpg
END:VEVENT
BEGIN:VEVENT
DTSTART;TZID=UTC:20240927T173000
DTEND;TZID=UTC:20240927T173000
DTSTAMP:20260423T021302
CREATED:20240822T004007Z
LAST-MODIFIED:20240822T004020Z
UID:1323-1727458200-1727458200@dapperowl.coffee
SUMMARY:Poetry in the Boro
DESCRIPTION:Doors open @ 5:30pm
URL:https://dapperowl.coffee/event/poetry-in-the-boro-2/
CATEGORIES:Poetry in the Boro
ATTACH;FMTTYPE=image/jpeg:https://dapperowl.coffee/wp-content/uploads/2024/06/event-poetry-in-the-boro.jpg
END:VEVENT
BEGIN:VEVENT
DTSTART;TZID=UTC:20240926T183000
DTEND;TZID=UTC:20240926T200000
DTSTAMP:20260423T021302
CREATED:20240822T171449Z
LAST-MODIFIED:20240822T171449Z
UID:1333-1727375400-1727380800@dapperowl.coffee
SUMMARY:Silent Book Club
DESCRIPTION:The goal of SBC Murfreesboro is to provide a time and space for everyone to carve a little time out of their day to read. We have busy lives\, and sometimes it’s hard to find a quiet spot or time to read. Fear not in these times\, for you can count on SBC Murfreesboro to provide that for you! \nBring your own book and enjoy some quiet reading time!
URL:https://dapperowl.coffee/event/silent-book-club-9/
CATEGORIES:Book Club
ATTACH;FMTTYPE=image/jpeg:https://dapperowl.coffee/wp-content/uploads/2024/06/silent-book-club-logo.jpg
END:VEVENT
BEGIN:VEVENT
DTSTART;TZID=UTC:20240919T183000
DTEND;TZID=UTC:20240919T200000
DTSTAMP:20260423T021302
CREATED:20240822T171410Z
LAST-MODIFIED:20240822T171429Z
UID:1331-1726770600-1726776000@dapperowl.coffee
SUMMARY:Silent Book Club
DESCRIPTION:The goal of SBC Murfreesboro is to provide a time and space for everyone to carve a little time out of their day to read. We have busy lives\, and sometimes it’s hard to find a quiet spot or time to read. Fear not in these times\, for you can count on SBC Murfreesboro to provide that for you! \nBring your own book and enjoy some quiet reading time!
URL:https://dapperowl.coffee/event/silent-book-club-8/
CATEGORIES:Book Club
ATTACH;FMTTYPE=image/jpeg:https://dapperowl.coffee/wp-content/uploads/2024/06/silent-book-club-logo.jpg
END:VEVENT
BEGIN:VEVENT
DTSTART;TZID=UTC:20240914T091500
DTEND;TZID=UTC:20240914T110000
DTSTAMP:20260423T021302
CREATED:20240829T204137Z
LAST-MODIFIED:20240830T095845Z
UID:1389-1726305300-1726311600@dapperowl.coffee
SUMMARY:Coffee Notes
DESCRIPTION:Performers \nSav – 9:15am to 10:00am \nChris Jordan – 10:00am to 11:00am
URL:https://dapperowl.coffee/event/coffee-notes-5/
CATEGORIES:Coffee Notes
ATTACH;FMTTYPE=image/jpeg:https://dapperowl.coffee/wp-content/uploads/2024/07/event_coffee_notes_thumbnail_2.jpg
END:VEVENT
BEGIN:VEVENT
DTSTART;TZID=UTC:20240910T183000
DTEND;TZID=UTC:20240910T200000
DTSTAMP:20260423T021302
CREATED:20240822T171348Z
LAST-MODIFIED:20240822T171348Z
UID:1329-1725993000-1725998400@dapperowl.coffee
SUMMARY:Silent Book Club
DESCRIPTION:The goal of SBC Murfreesboro is to provide a time and space for everyone to carve a little time out of their day to read. We have busy lives\, and sometimes it’s hard to find a quiet spot or time to read. Fear not in these times\, for you can count on SBC Murfreesboro to provide that for you! \nBring your own book and enjoy some quiet reading time!
URL:https://dapperowl.coffee/event/silent-book-club-7/
CATEGORIES:Book Club
ATTACH;FMTTYPE=image/jpeg:https://dapperowl.coffee/wp-content/uploads/2024/06/silent-book-club-logo.jpg
END:VEVENT
BEGIN:VEVENT
DTSTART;TZID=UTC:20240829T183000
DTEND;TZID=UTC:20240829T200000
DTSTAMP:20260423T021302
CREATED:20240626T193022Z
LAST-MODIFIED:20240629T005028Z
UID:504-1724956200-1724961600@dapperowl.coffee
SUMMARY:Silent Book Club - One Year Celebration!
DESCRIPTION:The goal of SBC Murfreesboro is to provide a time and space for everyone to carve a little time out of their day to read. We have busy lives\, and sometimes it’s hard to find a quiet spot or time to read. Fear not in these times\, for you can count on SBC Murfreesboro to provide that for you! \nBring your own book and enjoy some quiet reading time!
URL:https://dapperowl.coffee/event/silent-book-club-one-year-celebration/
CATEGORIES:Book Club
ATTACH;FMTTYPE=image/jpeg:https://dapperowl.coffee/wp-content/uploads/2024/06/silent-book-club-logo.jpg
END:VEVENT
BEGIN:VEVENT
DTSTART;TZID=UTC:20240820T183000
DTEND;TZID=UTC:20240820T200000
DTSTAMP:20260423T021302
CREATED:20240626T192912Z
LAST-MODIFIED:20240629T005055Z
UID:502-1724178600-1724184000@dapperowl.coffee
SUMMARY:Silent Book Club
DESCRIPTION:The goal of SBC Murfreesboro is to provide a time and space for everyone to carve a little time out of their day to read. We have busy lives\, and sometimes it’s hard to find a quiet spot or time to read. Fear not in these times\, for you can count on SBC Murfreesboro to provide that for you! \nBring your own book and enjoy some quiet reading time!
URL:https://dapperowl.coffee/event/silent-book-club-3/
CATEGORIES:Book Club
ATTACH;FMTTYPE=image/jpeg:https://dapperowl.coffee/wp-content/uploads/2024/06/silent-book-club-logo.jpg
END:VEVENT
BEGIN:VEVENT
DTSTART;TZID=UTC:20240806T183000
DTEND;TZID=UTC:20240806T200000
DTSTAMP:20260423T021302
CREATED:20240626T192842Z
LAST-MODIFIED:20240629T005102Z
UID:500-1722969000-1722974400@dapperowl.coffee
SUMMARY:Silent Book Club
DESCRIPTION:The goal of SBC Murfreesboro is to provide a time and space for everyone to carve a little time out of their day to read. We have busy lives\, and sometimes it’s hard to find a quiet spot or time to read. Fear not in these times\, for you can count on SBC Murfreesboro to provide that for you! \nBring your own book and enjoy some quiet reading time!
URL:https://dapperowl.coffee/event/silent-book-club-2/
CATEGORIES:Book Club
ATTACH;FMTTYPE=image/jpeg:https://dapperowl.coffee/wp-content/uploads/2024/06/silent-book-club-logo.jpg
END:VEVENT
BEGIN:VEVENT
DTSTART;TZID=UTC:20240725T183000
DTEND;TZID=UTC:20240725T200000
DTSTAMP:20260423T021302
CREATED:20240628T220157Z
LAST-MODIFIED:20240629T005110Z
UID:703-1721932200-1721937600@dapperowl.coffee
SUMMARY:Silent Book Club
DESCRIPTION:The goal of SBC Murfreesboro is to provide a time and space for everyone to carve a little time out of their day to read. We have busy lives\, and sometimes it’s hard to find a quiet spot or time to read. Fear not in these times\, for you can count on SBC Murfreesboro to provide that for you! \nBring your own book and enjoy some quiet reading time!
URL:https://dapperowl.coffee/event/silent-book-club-6/
CATEGORIES:Book Club
ATTACH;FMTTYPE=image/jpeg:https://dapperowl.coffee/wp-content/uploads/2024/06/silent-book-club-logo.jpg
END:VEVENT
BEGIN:VEVENT
DTSTART;TZID=UTC:20240718T183000
DTEND;TZID=UTC:20240718T200000
DTSTAMP:20260423T021302
CREATED:20240628T215939Z
LAST-MODIFIED:20240629T005119Z
UID:699-1721327400-1721332800@dapperowl.coffee
SUMMARY:Silent Book Club
DESCRIPTION:The goal of SBC Murfreesboro is to provide a time and space for everyone to carve a little time out of their day to read. We have busy lives\, and sometimes it’s hard to find a quiet spot or time to read. Fear not in these times\, for you can count on SBC Murfreesboro to provide that for you! \nBring your own book and enjoy some quiet reading time!
URL:https://dapperowl.coffee/event/silent-book-club-5/
CATEGORIES:Book Club
ATTACH;FMTTYPE=image/jpeg:https://dapperowl.coffee/wp-content/uploads/2024/06/silent-book-club-logo.jpg
END:VEVENT
END:VCALENDAR