BEGIN:VCALENDAR
VERSION:2.0
PRODID:-//Dapper Owl Coffee Pub &amp; Bakery - ECPv6.15.18//NONSGML v1.0//EN
CALSCALE:GREGORIAN
METHOD:PUBLISH
X-WR-CALNAME:Dapper Owl Coffee Pub &amp; Bakery
X-ORIGINAL-URL:https://dapperowl.coffee
X-WR-CALDESC:Events for Dapper Owl Coffee Pub &amp; Bakery
REFRESH-INTERVAL;VALUE=DURATION:PT1H
X-Robots-Tag:noindex
X-PUBLISHED-TTL:PT1H
BEGIN:VTIMEZONE
TZID:America/New_York
BEGIN:DAYLIGHT
TZOFFSETFROM:-0500
TZOFFSETTO:-0400
TZNAME:EDT
DTSTART:20240310T070000
END:DAYLIGHT
BEGIN:STANDARD
TZOFFSETFROM:-0400
TZOFFSETTO:-0500
TZNAME:EST
DTSTART:20241103T060000
END:STANDARD
BEGIN:DAYLIGHT
TZOFFSETFROM:-0500
TZOFFSETTO:-0400
TZNAME:EDT
DTSTART:20250309T070000
END:DAYLIGHT
BEGIN:STANDARD
TZOFFSETFROM:-0400
TZOFFSETTO:-0500
TZNAME:EST
DTSTART:20251102T060000
END:STANDARD
BEGIN:DAYLIGHT
TZOFFSETFROM:-0500
TZOFFSETTO:-0400
TZNAME:EDT
DTSTART:20260308T070000
END:DAYLIGHT
BEGIN:STANDARD
TZOFFSETFROM:-0400
TZOFFSETTO:-0500
TZNAME:EST
DTSTART:20261101T060000
END:STANDARD
END:VTIMEZONE
BEGIN:VEVENT
DTSTART;TZID=America/New_York:20250309T150000
DTEND;TZID=America/New_York:20250309T170000
DTSTAMP:20260424T184511
CREATED:20250211T175524Z
LAST-MODIFIED:20250217T153929Z
UID:1617-1741532400-1741539600@dapperowl.coffee
SUMMARY:Writers Mingle
DESCRIPTION:
URL:https://dapperowl.coffee/event/writers-mingle/
CATEGORIES:Writera Mingle
ATTACH;FMTTYPE=image/jpeg:https://dapperowl.coffee/wp-content/uploads/2024/08/gallery_pic.jpg
END:VEVENT
BEGIN:VEVENT
DTSTART;TZID=America/New_York:20250310T170000
DTEND;TZID=America/New_York:20250310T190000
DTSTAMP:20260424T184511
CREATED:20250305T144354Z
LAST-MODIFIED:20250305T144354Z
UID:1683-1741626000-1741633200@dapperowl.coffee
SUMMARY:Silent Book Club
DESCRIPTION:
URL:https://dapperowl.coffee/event/silent-book-club-26/
CATEGORIES:Book Club
ATTACH;FMTTYPE=image/jpeg:https://dapperowl.coffee/wp-content/uploads/2024/09/IMG_6811.jpg
END:VEVENT
BEGIN:VEVENT
DTSTART;TZID=America/New_York:20250316T150000
DTEND;TZID=America/New_York:20250316T163000
DTSTAMP:20260424T184511
CREATED:20250211T175736Z
LAST-MODIFIED:20250211T175736Z
UID:1621-1742137200-1742142600@dapperowl.coffee
SUMMARY:Silent Book Club
DESCRIPTION:
URL:https://dapperowl.coffee/event/silent-book-club-25/
CATEGORIES:Book Club
ATTACH;FMTTYPE=image/jpeg:https://dapperowl.coffee/wp-content/uploads/2024/09/IMG_6811.jpg
END:VEVENT
BEGIN:VEVENT
DTSTART;TZID=America/New_York:20250321T060000
DTEND;TZID=America/New_York:20250321T213000
DTSTAMP:20260424T184511
CREATED:20250319T171838Z
LAST-MODIFIED:20250319T171838Z
UID:1690-1742536800-1742592600@dapperowl.coffee
SUMMARY:Stand - Up Comedy Night
DESCRIPTION:UPDATE – Pub Night at The Owl \n**NO COVER** \nGet ready to laugh your heart out Friday 2/21/25! Join us for a night of hilarious stand-up comedy featuring some of the funniest talents around: \n🎭 Hosted by Nick Bush \n🎭 Featuring Teresa Morrison \, Kyle Kanouse and Mikah Wyman \n🍴 Savory bites and 🍺 beer will be  served to keep you fueled for the laughs. Need a pick-me-up? We’ve got ☕ lattes and cappuccinos too! \n⏰Doors open at 6:00 PM \n⏰ Show starts at 7:00 PM \nDon’t miss out on the funniest night of the week! Bring your friends\, grab a drink\, and let’s laugh the night away. 🎟️
URL:https://dapperowl.coffee/event/stand-up-comedy-night/
CATEGORIES:Stand Up Comedy Night
ATTACH;FMTTYPE=image/png:https://dapperowl.coffee/wp-content/uploads/2025/03/Red-and-Yellow-Stagelight-Broadway-Stand-up-Comedy-Poster.png
END:VEVENT
BEGIN:VEVENT
DTSTART;TZID=America/New_York:20250322T110000
DTEND;TZID=America/New_York:20250322T130000
DTSTAMP:20260424T184511
CREATED:20250319T172242Z
LAST-MODIFIED:20250319T172242Z
UID:1698-1742641200-1742648400@dapperowl.coffee
SUMMARY:Book Signing - Beth Riner
DESCRIPTION:Retired Riverdale teacher Beth Riner celebrates the release of her debut novel\, Odd Job Annie\, with a book signing from 11 a.m. to 1 p.m. Saturday\, March 22\, at Dapper Owl in Murfreesboro. \nThe coffee pub and bakery is located at 2412 E. Main Street near \nMTSU. Folks are welcome to stop by March 22 to get a book signed\, pick up a copy\, and visit with Riner. \nOdd Job Annie\, a modern cozy mystery\, is a rollicking roller coaster of a fast read garnering high praise on both Amazon and Goodreads. Sixty-two-year-old retired teacher Annie Cooper’s impulsive move to quirky Monteagle\, Tennessee\, sets the stage for hilarity when she takes odd jobs to offset her insurance costs\, stumbles across a mystery\, and unabashedly fantasizes about the men who cross her path. \nLike her main character\, Riner retired from a 23-year English teaching career with Rutherford County Schools and moved to Monteagle. Instead of odd jobs\, Riner began writing features for The Sewanee Mountain Messenger and The Grundy County Herald before penning her first novel. \nHer book was recently named a reading selection for the Methodist Sunday School Assembly’s 2025 Summer Program. \nThe second in the series is slated for release in February of 2026\, and Riner is knee-deep into the third. For more information\, see www.bethriner.com.
URL:https://dapperowl.coffee/event/book-signing-beth-riner/
CATEGORIES:Book Signing
ATTACH;FMTTYPE=image/jpeg:https://dapperowl.coffee/wp-content/uploads/2025/03/IMG_2027.jpg
END:VEVENT
BEGIN:VEVENT
DTSTART;TZID=America/New_York:20250323T170000
DTEND;TZID=America/New_York:20250323T203000
DTSTAMP:20260424T184511
CREATED:20250211T175301Z
LAST-MODIFIED:20250320T132855Z
UID:1613-1742749200-1742761800@dapperowl.coffee
SUMMARY:Poetry In The Boro
DESCRIPTION:Join us Sunday evening\, 3/23\, at @dapperowltn for a special all-genre open mic and launch party for the new issue of the literary journal SHIFT! We’ll hear from some of the contributors\, and copies will be available for sale. \nAll the details are at our profile link or https://poetryintheboro.org/ \n2025/03/join-us-march-23-open-mic-shift-literary-journa/
URL:https://dapperowl.coffee/event/poetry-in-the-boro-7/
CATEGORIES:Poetry in the Boro
ATTACH;FMTTYPE=image/jpeg:https://dapperowl.coffee/wp-content/uploads/2025/02/IMG_2028.jpg
END:VEVENT
BEGIN:VEVENT
DTSTART;TZID=America/New_York:20250326T173000
DTEND;TZID=America/New_York:20250326T190000
DTSTAMP:20260424T184511
CREATED:20250211T180050Z
LAST-MODIFIED:20250211T180050Z
UID:1625-1743010200-1743015600@dapperowl.coffee
SUMMARY:Silent Book Clun
DESCRIPTION:
URL:https://dapperowl.coffee/event/silent-book-clun/
CATEGORIES:Book Club
ATTACH;FMTTYPE=image/jpeg:https://dapperowl.coffee/wp-content/uploads/2024/09/IMG_6811.jpg
END:VEVENT
BEGIN:VEVENT
DTSTART;TZID=America/New_York:20250329T160000
DTEND;TZID=America/New_York:20250329T193000
DTSTAMP:20260424T184511
CREATED:20250319T173125Z
LAST-MODIFIED:20250319T175317Z
UID:1708-1743264000-1743276600@dapperowl.coffee
SUMMARY:Private Event
DESCRIPTION:
URL:https://dapperowl.coffee/event/private-event/
CATEGORIES:After Hours Events
ATTACH;FMTTYPE=image/png:https://dapperowl.coffee/wp-content/uploads/2024/07/cropped-dapper-owl-logo-round-v2.png
END:VEVENT
END:VCALENDAR